BEGIN:VCALENDAR
VERSION:2.0
PRODID:-//MELTA - ECPv6.15.20//NONSGML v1.0//EN
CALSCALE:GREGORIAN
METHOD:PUBLISH
X-ORIGINAL-URL:https://melta.de
X-WR-CALDESC:Events for MELTA
REFRESH-INTERVAL;VALUE=DURATION:PT1H
X-Robots-Tag:noindex
X-PUBLISHED-TTL:PT1H
BEGIN:VTIMEZONE
TZID:Europe/Berlin
BEGIN:DAYLIGHT
TZOFFSETFROM:+0100
TZOFFSETTO:+0200
TZNAME:CEST
DTSTART:20220327T010000
END:DAYLIGHT
BEGIN:STANDARD
TZOFFSETFROM:+0200
TZOFFSETTO:+0100
TZNAME:CET
DTSTART:20221030T010000
END:STANDARD
BEGIN:DAYLIGHT
TZOFFSETFROM:+0100
TZOFFSETTO:+0200
TZNAME:CEST
DTSTART:20230326T010000
END:DAYLIGHT
BEGIN:STANDARD
TZOFFSETFROM:+0200
TZOFFSETTO:+0100
TZNAME:CET
DTSTART:20231029T010000
END:STANDARD
BEGIN:DAYLIGHT
TZOFFSETFROM:+0100
TZOFFSETTO:+0200
TZNAME:CEST
DTSTART:20240331T010000
END:DAYLIGHT
BEGIN:STANDARD
TZOFFSETFROM:+0200
TZOFFSETTO:+0100
TZNAME:CET
DTSTART:20241027T010000
END:STANDARD
END:VTIMEZONE
BEGIN:VEVENT
DTSTART;TZID=Europe/Berlin:20230304T080000
DTEND;TZID=Europe/Berlin:20230304T170000
DTSTAMP:20260424T211040
CREATED:20230304T165054Z
LAST-MODIFIED:20230304T165054Z
UID:2682-1677916800-1677949200@melta.de
SUMMARY:Munich St. Patrick's Day parade on March 12\, 2023
DESCRIPTION:After a four-year break – the St. Patrick’s day parade is back on track!\nIt’ll take place on March 12 – the Sunday before the big day (March 17)!\n\nMelta’s in position  28 of the parade – Meeting point is Feilitzschstraße (and adjoining streets) behind Münchener Freiheit.\nWe need to meet around 11am to be ready to take off by 11.50.\n\nIf you’d like to join us – just drop a line to info@melta.de so we know who and how many to expect!\n\nGuinness\, good company and lots of Craic guaranteed\, all free of charge!\n\nAttached please find all the information regarding the festivities around St. Patrick’s day\n\nSee you there!!\n\nYour Melta committee
URL:https://melta.de/event/munich-st-patricks-day-parade-on-march-12-2023/
END:VEVENT
END:VCALENDAR