BEGIN:VCALENDAR
VERSION:2.0
PRODID:-//MELTA - ECPv6.15.20//NONSGML v1.0//EN
CALSCALE:GREGORIAN
METHOD:PUBLISH
X-ORIGINAL-URL:https://melta.de
X-WR-CALDESC:Events for MELTA
REFRESH-INTERVAL;VALUE=DURATION:PT1H
X-Robots-Tag:noindex
X-PUBLISHED-TTL:PT1H
BEGIN:VTIMEZONE
TZID:Europe/Berlin
BEGIN:DAYLIGHT
TZOFFSETFROM:+0100
TZOFFSETTO:+0200
TZNAME:CEST
DTSTART:20240331T010000
END:DAYLIGHT
BEGIN:STANDARD
TZOFFSETFROM:+0200
TZOFFSETTO:+0100
TZNAME:CET
DTSTART:20241027T010000
END:STANDARD
BEGIN:DAYLIGHT
TZOFFSETFROM:+0100
TZOFFSETTO:+0200
TZNAME:CEST
DTSTART:20250330T010000
END:DAYLIGHT
BEGIN:STANDARD
TZOFFSETFROM:+0200
TZOFFSETTO:+0100
TZNAME:CET
DTSTART:20251026T010000
END:STANDARD
BEGIN:DAYLIGHT
TZOFFSETFROM:+0100
TZOFFSETTO:+0200
TZNAME:CEST
DTSTART:20260329T010000
END:DAYLIGHT
BEGIN:STANDARD
TZOFFSETFROM:+0200
TZOFFSETTO:+0100
TZNAME:CET
DTSTART:20261025T010000
END:STANDARD
END:VTIMEZONE
BEGIN:VEVENT
DTSTART;VALUE=DATE:20251010
DTEND;VALUE=DATE:20251012
DTSTAMP:20260423T233204
CREATED:20250716T074155Z
LAST-MODIFIED:20251013T130655Z
UID:3724-1760054400-1760227199@melta.de
SUMMARY:GMF conference 2025
DESCRIPTION:GMF Bayern e.V. \nGesamtverband Moderne Fremdsprachen Bayern \nSave the date: GMF conference 2025\, at Friedrich-Alexander-Universität in Nuremburg on October 10-11\, 2025  \nGMF is an association dedicated to modern language teaching. This year’s conference is focused on the topic “Quality assurance in foreign language teaching in times of teacher shortages”. \n  \n There will be keynote speeches\, workshops and plenty of opportunities for exchanging ideas and networking \n  \nUpdates on the programme will be published in due time at: https://gmf-bayern.de 
URL:https://melta.de/event/gmf-conference-2025/
CATEGORIES:External Events,Past
ATTACH;FMTTYPE=image/png:https://melta.de/wp-content/uploads/2025/07/Screenshot-2025-07-16-at-09.41.18.png
END:VEVENT
BEGIN:VEVENT
DTSTART;TZID=Europe/Berlin:20251011T100000
DTEND;TZID=Europe/Berlin:20251011T120000
DTSTAMP:20260423T233204
CREATED:20250922T061618Z
LAST-MODIFIED:20251013T130704Z
UID:3794-1760176800-1760184000@melta.de
SUMMARY:ELTABB online workshop: Cut the Noise: Turning your clients into clear communicators with Vicky Margari
DESCRIPTION:In today’s hybrid workplaces\, even highly skilled professionals can struggle with unclear emails\, endless back-and-forth and miscommunication across channels. We trainers often try to address these challenges by telling\, explaining and teaching. But real transformation takes more than that. In our role\, we are in a unique position to give our clients more than just language lessons. We can empower them with insights and tools to work better together. \nIn this online workshop\, you will: \n\ntry out practical activities for building clarity in digital communication\, including helping clients identify and cut noise in their daily work\,\ndiscover strategies to help clients choose the right channels and habits\, so messages are delivered and received with greater impact and efficiency\,\ncollaborate with fellow trainers to address real workplace communication challenges\, sharing ideas and adapting approaches for different contexts.\n\nYou’ll walk away with a toolkit of ideas and approaches to partner with your clients as they reflect\, challenge assumptions and transform how they communicate at work. \n  \nBio: \nVicky Margari spent two decades in hospitality\, customer service and insurance\, leading teams\, before moving into business English training. Although she was steeped in language rules from an early age and is still a bit of a language nerd\, her business background taught her that the real communication issues professionals face go far beyond language. Vicky’s mission is helping virtual teams communicate more clearly and confidently across digital channels in today’s multi-communicating\, fast-changing work environments. \n  \nELTABB members:  free. Please RSVP on the Ning. \nOther ELTA members: free. Email events@eltabb.com to get the link \nNon-members: €10. Email events@eltabb.com to book your place
URL:https://melta.de/event/eltabb-online-workshop-cut-the-noise-turning-your-clients-into-clear-communicators-with-vicky-margari/
CATEGORIES:External Events,Past
END:VEVENT
END:VCALENDAR