BEGIN:VCALENDAR
VERSION:2.0
PRODID:-//MELTA - ECPv6.15.20//NONSGML v1.0//EN
CALSCALE:GREGORIAN
METHOD:PUBLISH
X-WR-CALNAME:MELTA
X-ORIGINAL-URL:https://melta.de
X-WR-CALDESC:Events for MELTA
REFRESH-INTERVAL;VALUE=DURATION:PT1H
X-Robots-Tag:noindex
X-PUBLISHED-TTL:PT1H
BEGIN:VTIMEZONE
TZID:Europe/Berlin
BEGIN:DAYLIGHT
TZOFFSETFROM:+0100
TZOFFSETTO:+0200
TZNAME:CEST
DTSTART:20220327T010000
END:DAYLIGHT
BEGIN:STANDARD
TZOFFSETFROM:+0200
TZOFFSETTO:+0100
TZNAME:CET
DTSTART:20221030T010000
END:STANDARD
BEGIN:DAYLIGHT
TZOFFSETFROM:+0100
TZOFFSETTO:+0200
TZNAME:CEST
DTSTART:20230326T010000
END:DAYLIGHT
BEGIN:STANDARD
TZOFFSETFROM:+0200
TZOFFSETTO:+0100
TZNAME:CET
DTSTART:20231029T010000
END:STANDARD
BEGIN:DAYLIGHT
TZOFFSETFROM:+0100
TZOFFSETTO:+0200
TZNAME:CEST
DTSTART:20240331T010000
END:DAYLIGHT
BEGIN:STANDARD
TZOFFSETFROM:+0200
TZOFFSETTO:+0100
TZNAME:CET
DTSTART:20241027T010000
END:STANDARD
END:VTIMEZONE
BEGIN:VEVENT
DTSTART;TZID=Europe/Berlin:20230325T100000
DTEND;TZID=Europe/Berlin:20230325T130000
DTSTAMP:20260420T090708
CREATED:20230319T192512Z
LAST-MODIFIED:20230726T084155Z
UID:2701-1679738400-1679749200@melta.de
SUMMARY:Shifting Migration Narratives: The Potential of Digital Storytelling  as an Educational Tool
DESCRIPTION:With Sophia Burton (Migration Matters e.V.) \nJoin Sophia Burton from Migration Matters for a film screening and\ninteractive discussion to explore the power of digital storytelling as\na teaching and learning resource to foster nuanced understanding of\nmigration and belonging issues as well as empathy for migrants.\nWe’ll examine different facets of migration within educational video\,\nranging from migrant stories during the pandemic to integration in\nGermany. We’ll also more broadly discuss the formats and\nmethodologies of digital storytelling (co-)creation. \nFree for all ELTA Members!\nRegister here to attend online: \nZoom Registration \nRegister here to attend in person:\nevents@eltabb.com – RSVP on the Ning
URL:https://melta.de/event/shifting-migration-narratives-the-potential-of-digital-storytelling-as-an-educational-tool/
CATEGORIES:External Events,Past
END:VEVENT
END:VCALENDAR