BEGIN:VCALENDAR
VERSION:2.0
PRODID:-//MELTA - ECPv6.15.20//NONSGML v1.0//EN
CALSCALE:GREGORIAN
METHOD:PUBLISH
X-WR-CALNAME:MELTA
X-ORIGINAL-URL:https://melta.de
X-WR-CALDESC:Events for MELTA
REFRESH-INTERVAL;VALUE=DURATION:PT1H
X-Robots-Tag:noindex
X-PUBLISHED-TTL:PT1H
BEGIN:VTIMEZONE
TZID:Europe/Berlin
BEGIN:DAYLIGHT
TZOFFSETFROM:+0100
TZOFFSETTO:+0200
TZNAME:CEST
DTSTART:20200329T010000
END:DAYLIGHT
BEGIN:STANDARD
TZOFFSETFROM:+0200
TZOFFSETTO:+0100
TZNAME:CET
DTSTART:20201025T010000
END:STANDARD
BEGIN:DAYLIGHT
TZOFFSETFROM:+0100
TZOFFSETTO:+0200
TZNAME:CEST
DTSTART:20210328T010000
END:DAYLIGHT
BEGIN:STANDARD
TZOFFSETFROM:+0200
TZOFFSETTO:+0100
TZNAME:CET
DTSTART:20211031T010000
END:STANDARD
BEGIN:DAYLIGHT
TZOFFSETFROM:+0100
TZOFFSETTO:+0200
TZNAME:CEST
DTSTART:20220327T010000
END:DAYLIGHT
BEGIN:STANDARD
TZOFFSETFROM:+0200
TZOFFSETTO:+0100
TZNAME:CET
DTSTART:20221030T010000
END:STANDARD
BEGIN:DAYLIGHT
TZOFFSETFROM:+0100
TZOFFSETTO:+0200
TZNAME:CEST
DTSTART:20230326T010000
END:DAYLIGHT
BEGIN:STANDARD
TZOFFSETFROM:+0200
TZOFFSETTO:+0100
TZNAME:CET
DTSTART:20231029T010000
END:STANDARD
BEGIN:DAYLIGHT
TZOFFSETFROM:+0100
TZOFFSETTO:+0200
TZNAME:CEST
DTSTART:20240331T010000
END:DAYLIGHT
BEGIN:STANDARD
TZOFFSETFROM:+0200
TZOFFSETTO:+0100
TZNAME:CET
DTSTART:20241027T010000
END:STANDARD
END:VTIMEZONE
BEGIN:VEVENT
DTSTART;TZID=Europe/Berlin:20230204T100000
DTEND;TZID=Europe/Berlin:20230204T123000
DTSTAMP:20260420T073731
CREATED:20220912T135441Z
LAST-MODIFIED:20230726T084226Z
UID:2330-1675504800-1675513800@melta.de
SUMMARY:February 4\, 2023 : Teacher Wellbeing with Tammy Gregersen
DESCRIPTION:Although language teacher wellbeing is multidimensional\, its elements are dynamically interconnected with all being necessary for thriving personally and professionally. This presentation will explore finding balance in our minds\, bodies\, emotions\, motivations\, relationships and the workplace in the present and the future. Research-based and practical\, the concepts and activities presented will equip teachers to make choices from a variety of mediations that are most aligned with their own individual circumstances at home and in the classroom. \nFree of charge to members of ELTAF and other German ELTAs. Fee for non-members: EUR 10. To register\, please write to events@eltaf.de and state which ELTA you are a member of.
URL:https://melta.de/event/unsavor-the-labor-insights-into-teacher-wellbeing/
CATEGORIES:MELTA Events,Past
ATTACH;FMTTYPE=image/png:https://melta.de/wp-content/uploads/2022/09/Screenshot-2022-09-12-at-15.53.48.png
END:VEVENT
BEGIN:VEVENT
DTSTART;TZID=Europe/Berlin:20221210T190000
DTEND;TZID=Europe/Berlin:20221210T230000
DTSTAMP:20260420T073731
CREATED:20221018T134826Z
LAST-MODIFIED:20230201T134617Z
UID:2382-1670698800-1670713200@melta.de
SUMMARY:MELTA Christmas party
DESCRIPTION:SAVE THE DATE!!!! \nChristmas is coming and the goose is getting fat …. \nMELTA Christmas party will take place:  \nOn December 10 (7 p.m. -11 p.m.) – Location: VHS / Stadtbibliothek Saal\, Rosenkavalierpl. 16  (Arabella Park) \nMore details to follow\, but do put this much in your diaries! \nAs usual\, we’ll need people to show their talents in co-ordinating some Christmas activities. If you’d like to be active\, just contact us at info@melta.de \nThis coming Saturday\, you’re also welcome to join the Inter-Eltas folks for the annual all-day webinar.\nYou can access the program here\, and register here.
URL:https://melta.de/event/melta-christmas-party/
CATEGORIES:MELTA Events,Past
ATTACH;FMTTYPE=image/jpeg:https://melta.de/wp-content/uploads/2022/10/xmas.jpg
END:VEVENT
BEGIN:VEVENT
DTSTART;TZID=Europe/Berlin:20221119T100000
DTEND;TZID=Europe/Berlin:20221119T120000
DTSTAMP:20260420T073731
CREATED:20221105T120647Z
LAST-MODIFIED:20230201T134625Z
UID:2396-1668852000-1668859200@melta.de
SUMMARY:Classroom-based assessment that gives voice and choice to learners
DESCRIPTION:Presenter: Maria Davou \nIn this webinar we will look at specific corrective feedback techniques we can use in the classroom. For the first part of the webinar\, we will reflect on alternative assessment tools within a critical pedagogy lens. For the second part of the webinar\, we will explore QFT (Question Formation Technique) as a framework we can use to both teach and assess our learners in meaningful\, learner-centered ways. We will look at a step by step QFT assessment design and then teachers will create their own tasks. \nMaria is a teacher\, teacher trainer\, author\, university professor and researcher. She runs a language school in Greece\, promoting alternative educational methods. She’s a storyteller and an educational visionary. \nPlease register at info@melta.de
URL:https://melta.de/event/classroom-based-assessment-that-gives-voice-and-choice-to-learners/
CATEGORIES:MELTA Events,Past
ATTACH;FMTTYPE=image/png:https://melta.de/wp-content/uploads/2022/11/Screen-Shot-2022-11-01-at-4.47.23-PM.png
END:VEVENT
BEGIN:VEVENT
DTSTART;TZID=Europe/Berlin:20221015T100000
DTEND;TZID=Europe/Berlin:20221015T123000
DTSTAMP:20260420T073731
CREATED:20220912T135252Z
LAST-MODIFIED:20230201T134635Z
UID:2327-1665828000-1665837000@melta.de
SUMMARY:It ain't what you teach - Teaching Learning Strategies with Rachael Harris\, October 15
DESCRIPTION:The more I teach the more I have realized how important successful learning strategies are for creating successful learners. Before we even think about what vocabulary or grammar we want our students to learn\, we need to look at how they will learn. This is even more important for students with learning difficulties. During this workshop we will look at a variety of learning strategies used for skills as well as learning vocabulary\, keeping up motivation\, dealing with evaluations and using learning journals. Participants will share ideas and methods and come away with concrete strategies to teach in class. \nFree of charge to members of ELTAF and other ELTAs. Fee for non-members: EUR 10. To register\, please write to events@eltaf.de and state which ELTA you are a member of.
URL:https://melta.de/event/it-aint-what-you-teach-teaching-learning-strategies/
CATEGORIES:MELTA Events,Past
ATTACH;FMTTYPE=image/png:https://melta.de/wp-content/uploads/2022/09/rachel_harris.png
END:VEVENT
BEGIN:VEVENT
DTSTART;TZID=Europe/Berlin:20221008T140000
DTEND;TZID=Europe/Berlin:20221008T160000
DTSTAMP:20260420T073731
CREATED:20220914T151924Z
LAST-MODIFIED:20230201T134645Z
UID:2341-1665237600-1665244800@melta.de
SUMMARY:Coaxing Out The Inner Hermit\, October 8
DESCRIPTION:In the following three talks we will demonstrate that we can take the skills which make us excellent teachers and trainers – such as the ability to engage people\, the ability to give clear explanations and the ability to structure content – and to tweak these both to attract the “right” students and to engage in a professional exchange of ideas with global peers. Learn more and register here.
URL:https://melta.de/event/coaxing-out-the-inner-hermit-october-8/
CATEGORIES:MELTA Events,Past
ATTACH;FMTTYPE=image/jpeg:https://melta.de/wp-content/uploads/2022/09/speakers_reaching-out.jpg
END:VEVENT
BEGIN:VEVENT
DTSTART;TZID=Europe/Berlin:20221008T100000
DTEND;TZID=Europe/Berlin:20221008T123000
DTSTAMP:20260420T073731
CREATED:20220917T082331Z
LAST-MODIFIED:20230201T134654Z
UID:2344-1665223200-1665232200@melta.de
SUMMARY:Teaching Languages with Evidence-Based Techniques
DESCRIPTION:We know that quite a number of you were disappointed when we had to postpone our online workshop with Russ Mayne last June. \nWell\, here’s some bit of good news: We now have it scheduled for 08 October from 10:00 am – 12:30 pm. And that’s just around the corner from now. Russ will be beaming in from Japan to talk about the evidence-based techniques he would recommend us using when teaching languages. \nTo register and for more info on the workshop\, please click on the following link. Do note that you would have to register again even if you had registered before for the workshop in June. \nhttps://t1p.de/m8fcx \nRegistration deadline is 4:00 pm\, 7th of October.
URL:https://melta.de/event/teaching-languages-with-evidence-based-techniques-2/
CATEGORIES:MELTA Events,Past
ATTACH;FMTTYPE=image/png:https://melta.de/wp-content/uploads/2022/09/Teaching-evidence-based-2022-10-08-new-date.png
END:VEVENT
BEGIN:VEVENT
DTSTART;TZID=Europe/Berlin:20220730T110000
DTEND;TZID=Europe/Berlin:20220730T123000
DTSTAMP:20260420T073731
CREATED:20220705T064346Z
LAST-MODIFIED:20230201T134702Z
UID:2262-1659178800-1659184200@melta.de
SUMMARY:So\, what's new?
DESCRIPTION:
URL:https://melta.de/event/so-whats-new/
LOCATION:Zoom\, München\, Deutschland
CATEGORIES:MELTA Events,Past
ATTACH;FMTTYPE=image/png:https://melta.de/wp-content/uploads/2022/07/Screenshot-2022-07-05-at-08.42.41.png
END:VEVENT
BEGIN:VEVENT
DTSTART;TZID=Europe/Berlin:20220716T150000
DTEND;TZID=Europe/Berlin:20220716T173000
DTSTAMP:20260420T073731
CREATED:20220625T092629Z
LAST-MODIFIED:20230201T134710Z
UID:2254-1657983600-1657992600@melta.de
SUMMARY:Creative activities for the classroom
DESCRIPTION:Register: info@melta.de
URL:https://melta.de/event/creative-activities-for-the-classroom/
LOCATION:Zoom\, München\, Deutschland
CATEGORIES:MELTA Events,Past
ATTACH;FMTTYPE=image/jpeg:https://melta.de/wp-content/uploads/2022/06/MELTA-in-person-event-July-22.jpg
END:VEVENT
BEGIN:VEVENT
DTSTART;TZID=Europe/Berlin:20220716T120000
DTEND;TZID=Europe/Berlin:20220716T163000
DTSTAMP:20260420T073731
CREATED:20220705T064150Z
LAST-MODIFIED:20230201T134719Z
UID:2259-1657972800-1657989000@melta.de
SUMMARY:Transforming grammar through Neurolanguage Coaching conversations
DESCRIPTION:
URL:https://melta.de/event/transforming-grammar-through-neurolanguage-coaching-conversations-2/
CATEGORIES:MELTA Events,Past
ATTACH;FMTTYPE=image/png:https://melta.de/wp-content/uploads/2022/07/Screenshot-2022-07-05-at-08.40.17.png
END:VEVENT
BEGIN:VEVENT
DTSTART;VALUE=DATE:20220625
DTEND;VALUE=DATE:20220626
DTSTAMP:20260420T073731
CREATED:20220517T084449Z
LAST-MODIFIED:20230201T134728Z
UID:2158-1656115200-1656201599@melta.de
SUMMARY:Reconnect
DESCRIPTION:
URL:https://melta.de/event/reconnect/
LOCATION:Zoom\, München\, Deutschland
CATEGORIES:MELTA Events,Past
ATTACH;FMTTYPE=image/png:https://melta.de/wp-content/uploads/2022/05/3.png
END:VEVENT
BEGIN:VEVENT
DTSTART;TZID=Europe/Berlin:20220618T100000
DTEND;TZID=Europe/Berlin:20220618T123000
DTSTAMP:20260420T073731
CREATED:20220517T084357Z
LAST-MODIFIED:20230201T134739Z
UID:2155-1655546400-1655555400@melta.de
SUMMARY:Teaching languages with evidence-based techniques
DESCRIPTION:
URL:https://melta.de/event/teaching-languages-with-evidence-based-techniques/
LOCATION:Zoom\, München\, Deutschland
CATEGORIES:MELTA Events,Past
ATTACH;FMTTYPE=image/png:https://melta.de/wp-content/uploads/2022/05/2.png
END:VEVENT
BEGIN:VEVENT
DTSTART;TZID=Europe/Berlin:20220611T140000
DTEND;TZID=Europe/Berlin:20220611T163000
DTSTAMP:20260420T073731
CREATED:20220607T133506Z
LAST-MODIFIED:20230201T134748Z
UID:2219-1654956000-1654965000@melta.de
SUMMARY:From newsroom to classroom
DESCRIPTION:Whether you’re teaching online or in the classroom\, speaking to large groups or one to one\, how you deliver your message influences your audience’s engagement\, interest and understanding. Covering topics such as appearance\, technology\, body language\, content and voice\, this hands-on workshop provides you with practical tips to help you shine in the spotlight. \nTo find out more and to register: click here.
URL:https://melta.de/event/from-newsroom-to-classroom/
LOCATION:Zoom\, München\, Deutschland
CATEGORIES:MELTA Events,Past
ATTACH;FMTTYPE=image/png:https://melta.de/wp-content/uploads/2022/06/Screenshot-2022-06-07-at-15.35.54.png
END:VEVENT
BEGIN:VEVENT
DTSTART;TZID=Europe/Berlin:20220528T100000
DTEND;TZID=Europe/Berlin:20220528T123000
DTSTAMP:20260420T073731
CREATED:20220511T101947Z
LAST-MODIFIED:20230201T134757Z
UID:2139-1653732000-1653741000@melta.de
SUMMARY:Canva for beginners
DESCRIPTION:The aim of this workshop is to get an insight into the basics of using Canva and a few other software solutions useful for teachers. \nCreating\, editing and collaborating are some of the topics we will work on in order to get the best out of this teaching software. \nNo previous knowledge or experience with Canva is required.
URL:https://melta.de/event/canva-for-beginners/
LOCATION:Zoom\, München\, Deutschland
CATEGORIES:MELTA Events,Past
ATTACH;FMTTYPE=image/png:https://melta.de/wp-content/uploads/2022/05/Canva-workshop-poster.png
END:VEVENT
BEGIN:VEVENT
DTSTART;TZID=Europe/Berlin:20220522T100000
DTEND;TZID=Europe/Berlin:20220522T130000
DTSTAMP:20260420T073731
CREATED:20220517T084121Z
LAST-MODIFIED:20230201T134807Z
UID:2152-1653213600-1653224400@melta.de
SUMMARY:The neurodiverse language classroom
DESCRIPTION:Whatever age group or type of English you teach\, you almost certainly have some students in your group who are perceiving the world in a different way. Some of them you will already know about\, and probably they are the topic of many exasperated conversations in the staff room. Others will be working extra hard to keep up\, but their efforts may not be rewarded with great results. \nIn this session\, we will consider what neurodiversity means and how the different neurotypes (or specific learning differences – SpLDs – such as dyslexia\, dyspraxia\, ADHD\, etc) can affect language learning. \nMany SpLDs are never formally identified\, so we may need to be the ones to take the first steps and evaluate how best to work with our neurodiverse learners. We’ll be discussing how we can spot the key indicators that are evident in the classroom\, and what the next steps could be in your context. \nMost importantly\, we will consider some inclusive practices and activities we can implement in our classrooms that will benefit all learners – especially those with SpLDs. \nSpeaker bio\nDr. Anne Margaret Smith started her career as a teacher of English as a foreign / additional language around 30 years ago. Alongside her language teaching\, she also works as a dyslexia assessor and specialist tutor and is currently also training to be a Speech and Language Therapist. She founded ELT well in 2005 and offers professional development and resources to language teachers in all contexts. She was instrumental in setting up the IATEFL IP&SEN SIG and served as the second co-ordinator of the SIG. \nFree for all ELTA members. Please register and state which ELTA you belong to here: \nhttps://us06web.zoom.us/meeting/register/tZIscuqqpjIqHtbcJy-biE6wO67_NY6ELi8m
URL:https://melta.de/event/the-neurodiverse-language-classroom/
LOCATION:Zoom\, München\, Deutschland
CATEGORIES:MELTA Events,Past
ATTACH;FMTTYPE=image/png:https://melta.de/wp-content/uploads/2022/05/1.png
END:VEVENT
BEGIN:VEVENT
DTSTART;TZID=Europe/Berlin:20220521T100000
DTEND;TZID=Europe/Berlin:20220521T120000
DTSTAMP:20260420T073731
CREATED:20220517T150847Z
LAST-MODIFIED:20230201T134815Z
UID:2161-1653127200-1653134400@melta.de
SUMMARY:Talkshop: Grading and assessment in university teaching
DESCRIPTION:Moderator: Larry Henry (ELTAF committee member and university lecturer) \nOnline via Zoom \nNo fee for members of ELTAF or other German ELTAs \nOn May 21 there will be an online discussion on the topic of grading at universities.\nWhile this event is primarily intended for those actively involved in assessing university\nstudents\, anyone who would like to discuss grading\, evaluation\, and the assessment of adults\nin general is more than welcome to participate. \nIf you are interested in attending\, please send an e-mail to Larry Henry at\nenglishopportunities(a)yahoo.de\, and you will be added to the list of participants.
URL:https://melta.de/event/talkshop-grading-and-assessment-in-university-teaching/
LOCATION:Zoom\, München\, Deutschland
CATEGORIES:MELTA Events,Past
END:VEVENT
BEGIN:VEVENT
DTSTART;TZID=Europe/Berlin:20220326T140000
DTEND;TZID=Europe/Berlin:20220326T153000
DTSTAMP:20260420T073731
CREATED:20220226T121710Z
LAST-MODIFIED:20230201T134825Z
UID:1102-1648303200-1648308600@melta.de
SUMMARY:Not every picture tells a story
DESCRIPTION:Tim Phillips presents: “In recent years a lot of helpful and creative practice has been shared about using images when teaching English. In this webinar I’ll be reviewing the key ideas as well as pointing out some of the pitfalls\, especially when it comes to selecting appropriate images. I’ll also be making suggestions on how we can use the image as a window to explore topics that may well fall outside our comfort zone as teachers.” \nPlease register at info@melta.de
URL:https://melta.de/event/not-every-picture-tells-a-story/
CATEGORIES:MELTA Events,Past
ATTACH;FMTTYPE=image/jpeg:https://melta.de/wp-content/uploads/2019/08/logo-melta.jpg
END:VEVENT
BEGIN:VEVENT
DTSTART;TZID=Europe/Berlin:20220319T140000
DTEND;TZID=Europe/Berlin:20220319T173000
DTSTAMP:20260420T073731
CREATED:20220209T100936Z
LAST-MODIFIED:20230201T134833Z
UID:1098-1647698400-1647711000@melta.de
SUMMARY:Knowledge Sharing Session on hybrid teaching
DESCRIPTION:Moderator: Daniel Payne \nOnline via Zoom \nNo fee for members of ELTAF or other German ELTAs \nTeachers can share experience on hybrid teaching\, meaning lessons involving face-to-face participants and online participants simultaneously. Two main subjects will be addressed: the technical equipment required and the pedagogical aspects. \nTo register\, write to events@eltaf.de
URL:https://melta.de/event/knowledge-sharing-session-on-hybrid-teaching/
CATEGORIES:MELTA Events,Past
ATTACH;FMTTYPE=image/jpeg:https://melta.de/wp-content/uploads/2019/08/logo-melta.jpg
END:VEVENT
BEGIN:VEVENT
DTSTART;TZID=Europe/Berlin:20220219T100000
DTEND;TZID=Europe/Berlin:20220219T123000
DTSTAMP:20260420T073731
CREATED:20220207T100317Z
LAST-MODIFIED:20220426T145258Z
UID:1091-1645264800-1645273800@melta.de
SUMMARY:Wordwall revisited
DESCRIPTION:Since Wordwall has proven itself to be so useful and so much fun in our classes\, we’ve decided to have another round and do some more exploring under the guidance of the very great Khanh-Duc!\nSee you there! \nPlease sign up by sending an e-mail to: info@melta.de
URL:https://melta.de/event/wordwall-revisited/
CATEGORIES:MELTA Events,Past
ATTACH;FMTTYPE=image/jpeg:https://melta.de/wp-content/uploads/2019/08/logo-melta.jpg
END:VEVENT
BEGIN:VEVENT
DTSTART;TZID=Europe/Berlin:20210327T133000
DTEND;TZID=Europe/Berlin:20210327T153000
DTSTAMP:20260420T073731
CREATED:20210316T170147Z
LAST-MODIFIED:20220427T125236Z
UID:879-1616851800-1616859000@melta.de
SUMMARY:How to learn from Communicative activities
DESCRIPTION:The excitement generated by the arrival of the Communicative Approach all those years ago included attention to activities in which students had a communicative purpose\, focused on content rather than language form\, and encouraged students to use all and any language at their disposal. \nBut how useful are such activities in reality? Do they genuinely help students to ‘get’ new language items or even practise previously encountered grammar and lexis? \nIn this talk we will revisit the concept of communicative activities and try to see how to re-fashion them so that they are communicative learning activities. \nPlease register at info@melta.de \nJeremy Harmer is a teacher\, trainer and writer who has worked in the UK and Mexico and as an online MA tutor. He haas written many books including The practice of English Language Teaching\, How to Teach English and Essential Teacher Knowledge (published by Pearson)\, graded readers for Cambridge University Press\, and course books (Coast to Coast – Pearson\, Just Right – Marshall Cavendish\, and Jetstream -Helbling). His most recent book is Story Based Language teaching\, with Herbert Puchta\, for Helbling. Away from ELT Jeremy is a practising music\, performer and singer-songwriter.
URL:https://melta.de/event/how-to-learn-from-communicative-activities-2/
CATEGORIES:MELTA Events,Past
ATTACH;FMTTYPE=image/jpeg:https://melta.de/wp-content/uploads/2019/08/logo-melta.jpg
END:VEVENT
BEGIN:VEVENT
DTSTART;TZID=Europe/Berlin:20210220T100000
DTEND;TZID=Europe/Berlin:20210220T120000
DTSTAMP:20260420T073731
CREATED:20210125T090326Z
LAST-MODIFIED:20220427T130132Z
UID:822-1613815200-1613822400@melta.de
SUMMARY:Wordwall workshop: Custom activities for your classroom
DESCRIPTION:Since language classes have been forced to move online\, we’ve been confronted with so many tools claiming to be the one tool you need for your classroom or course. From Kahoot!\, Miro\, Padlet\, Quizlet and Wordwall\, how do we know which tool to use? Is it really worth paying for a subscription for any particular tool\, and if so\, which subscriptions are good investments? \nThis interactive two-part workshop is going to take a look at Wordwall. In the first session we are going to look at how Wordwall can be used both in online as well as face-to-face classes. This is important as we want to invest in something not just for the present situation\, but also for a time when we return to classroom teaching. We are going to look at the types of activities you can create\, go through the basics of Wordwall and create your account and possibly\, first activity. In the follow-up session\, you will have the opportunity to share your own Wordwall activities with the group\, test other activities and give and receive feedback on these. \nNo extensive knowledge or experience is needed. All you need to bring is your enthusiasm to try something out and your willingness to share your experiences. It would help if you could familiarise yourself with the Wordwall website in advance. You do not have to attend both sessions but if you are new to Wordwall\, do try to attend them both. We will be working with Zoom and you’ll get the best out of the workshop if you join the meeting on your laptop or computer. \nKhanh-duc Kuttig was thrown into a very challenging teaching situation when her university went online in April 2020. From never having heard of Zoom\, she zoomed her way through 15 weeks of the summer semester\, bumbling at first but with much encouragement and enthusiasm from her students\, she taught 8 classes a week entirely online. Now in her second semester of full online teaching\, Khanh-duc is honing her digital skills and is actually enjoying being able to teach from home. She has taken numerous courses in online teaching and learning and believes that once you know the basics of any programme\, software or platform\, it can be a valuable teaching tool. Khanh-duc is also the events co-ordinator for ELTA-Rhine and TESOL’s 2021 Teacher of the Year. \nTo register\, please send an e-mail to info@melta.de
URL:https://melta.de/event/wordwall-workshop-custom-activities-for-your-classroom-2/
CATEGORIES:MELTA Events,Past
ATTACH;FMTTYPE=image/jpeg:https://melta.de/wp-content/uploads/2019/08/logo-melta.jpg
END:VEVENT
BEGIN:VEVENT
DTSTART;TZID=Europe/Berlin:20210206T100000
DTEND;TZID=Europe/Berlin:20210206T120000
DTSTAMP:20260420T073731
CREATED:20210125T085907Z
LAST-MODIFIED:20220427T130401Z
UID:817-1612605600-1612612800@melta.de
SUMMARY:Wordwall workshop: Custom activities for your classroom
DESCRIPTION:Since language classes have been forced to move online\, we’ve been confronted with so many tools claiming to be the one tool you need for your classroom or course. From Kahoot!\, Miro\, Padlet\, Quizlet and Wordwall\, how do we know which tool to use? Is it really worth paying for a subscription for any particular tool\, and if so\, which subscriptions are good investments? \nThis interactive two-part workshop is going to take a look at Wordwall. In the first session we are going to look at how Wordwall can be used both in online as well as face-to-face classes. This is important as we want to invest in something not just for the present situation\, but also for a time when we return to classroom teaching. We are going to look at the types of activities you can create\, go through the basics of Wordwall and create your account and possibly\, first activity. In the follow-up session\, you will have the opportunity to share your own Wordwall activities with the group\, test other activities and give and receive feedback on these. \nNo extensive knowledge or experience is needed. All you need to bring is your enthusiasm to try something out and your willingness to share your experiences. It would help if you could familiarise yourself with the Wordwall website in advance. You do not have to attend both sessions but if you are new to Wordwall\, do try to attend them both. We will be working with Zoom and you’ll get the best out of the workshop if you join the meeting on your laptop or computer. \nKhanh-duc Kuttig was thrown into a very challenging teaching situation when her university went online in April 2020. From never having heard of Zoom\, she zoomed her way through 15 weeks of the summer semester\, bumbling at first but with much encouragement and enthusiasm from her students\, she taught 8 classes a week entirely online. Now in her second semester of full online teaching\, Khanh-duc is honing her digital skills and is actually enjoying being able to teach from home. She has taken numerous courses in online teaching and learning and believes that once you know the basics of any programme\, software or platform\, it can be a valuable teaching tool. Khanh-duc is also the events co-ordinator for ELTA-Rhine and TESOL’s 2021 Teacher of the Year. \nTo register\, please send an e-mail to info@melta.de
URL:https://melta.de/event/wordwall-workshop-custom-activities-for-your-classroom/
CATEGORIES:MELTA Events,Past
ATTACH;FMTTYPE=image/jpeg:https://melta.de/wp-content/uploads/2019/08/logo-melta.jpg
END:VEVENT
END:VCALENDAR