BEGIN:VCALENDAR
VERSION:2.0
PRODID:-//MELTA - ECPv6.15.20//NONSGML v1.0//EN
CALSCALE:GREGORIAN
METHOD:PUBLISH
X-ORIGINAL-URL:https://melta.de
X-WR-CALDESC:Events for MELTA
REFRESH-INTERVAL;VALUE=DURATION:PT1H
X-Robots-Tag:noindex
X-PUBLISHED-TTL:PT1H
BEGIN:VTIMEZONE
TZID:Europe/Berlin
BEGIN:DAYLIGHT
TZOFFSETFROM:+0100
TZOFFSETTO:+0200
TZNAME:CEST
DTSTART:20210328T010000
END:DAYLIGHT
BEGIN:STANDARD
TZOFFSETFROM:+0200
TZOFFSETTO:+0100
TZNAME:CET
DTSTART:20211031T010000
END:STANDARD
BEGIN:DAYLIGHT
TZOFFSETFROM:+0100
TZOFFSETTO:+0200
TZNAME:CEST
DTSTART:20220327T010000
END:DAYLIGHT
BEGIN:STANDARD
TZOFFSETFROM:+0200
TZOFFSETTO:+0100
TZNAME:CET
DTSTART:20221030T010000
END:STANDARD
BEGIN:DAYLIGHT
TZOFFSETFROM:+0100
TZOFFSETTO:+0200
TZNAME:CEST
DTSTART:20230326T010000
END:DAYLIGHT
BEGIN:STANDARD
TZOFFSETFROM:+0200
TZOFFSETTO:+0100
TZNAME:CET
DTSTART:20231029T010000
END:STANDARD
END:VTIMEZONE
BEGIN:VEVENT
DTSTART;TZID=Europe/Berlin:20221210T190000
DTEND;TZID=Europe/Berlin:20221210T230000
DTSTAMP:20260421T103432
CREATED:20221018T134826Z
LAST-MODIFIED:20230201T134617Z
UID:2382-1670698800-1670713200@melta.de
SUMMARY:MELTA Christmas party
DESCRIPTION:SAVE THE DATE!!!! \nChristmas is coming and the goose is getting fat …. \nMELTA Christmas party will take place:  \nOn December 10 (7 p.m. -11 p.m.) – Location: VHS / Stadtbibliothek Saal\, Rosenkavalierpl. 16  (Arabella Park) \nMore details to follow\, but do put this much in your diaries! \nAs usual\, we’ll need people to show their talents in co-ordinating some Christmas activities. If you’d like to be active\, just contact us at info@melta.de \nThis coming Saturday\, you’re also welcome to join the Inter-Eltas folks for the annual all-day webinar.\nYou can access the program here\, and register here.
URL:https://melta.de/event/melta-christmas-party/
CATEGORIES:MELTA Events,Past
ATTACH;FMTTYPE=image/jpeg:https://melta.de/wp-content/uploads/2022/10/xmas.jpg
END:VEVENT
BEGIN:VEVENT
DTSTART;TZID=Europe/Berlin:20221218T140000
DTEND;TZID=Europe/Berlin:20221218T150000
DTSTAMP:20260421T103432
CREATED:20221213T084110Z
LAST-MODIFIED:20230201T134608Z
UID:2446-1671372000-1671375600@melta.de
SUMMARY:Christmas Carol Sing
DESCRIPTION:Location: Emmauskirche\, Laurinplatz\, 81545 Munich (Harlaching) \nThis is a chance to sing both secular and religious Christmas songs. If you’ve got a special crazy Christmas outfit\, wear it! This event is organised by the Episcopal Church of the Ascension and features the Church of the Ascension choir and a gospel choir.
URL:https://melta.de/event/christmas-carol-sing/
CATEGORIES:External Events,Past
ATTACH;FMTTYPE=image/jpeg:https://melta.de/wp-content/uploads/2022/12/xmas.jpg
END:VEVENT
BEGIN:VEVENT
DTSTART;TZID=Europe/Berlin:20221221T190000
DTEND;TZID=Europe/Berlin:20221221T200000
DTSTAMP:20260421T103432
CREATED:20221213T084156Z
LAST-MODIFIED:20230201T134559Z
UID:2449-1671649200-1671652800@melta.de
SUMMARY:Service of Lessons and Carols
DESCRIPTION:Location: Kirche St. Willibrord\, Blumenstraße 36\, 80331 Munich \nBased on the Festival of Nine Lessons and Carols celebrated in many churches in England\, this service consists of 7 lessons and 7 bible readings telling the Christmas story. The Munich English Choir will be singing at this service.
URL:https://melta.de/event/service-of-lessons-and-carols/
CATEGORIES:External Events,Past
ATTACH;FMTTYPE=image/jpeg:https://melta.de/wp-content/uploads/2022/12/xmas.jpg
END:VEVENT
END:VCALENDAR