BEGIN:VCALENDAR
VERSION:2.0
PRODID:-//MELTA - ECPv6.15.20//NONSGML v1.0//EN
CALSCALE:GREGORIAN
METHOD:PUBLISH
X-ORIGINAL-URL:https://melta.de
X-WR-CALDESC:Events for MELTA
REFRESH-INTERVAL;VALUE=DURATION:PT1H
X-Robots-Tag:noindex
X-PUBLISHED-TTL:PT1H
BEGIN:VTIMEZONE
TZID:Europe/Berlin
BEGIN:DAYLIGHT
TZOFFSETFROM:+0100
TZOFFSETTO:+0200
TZNAME:CEST
DTSTART:20210328T010000
END:DAYLIGHT
BEGIN:STANDARD
TZOFFSETFROM:+0200
TZOFFSETTO:+0100
TZNAME:CET
DTSTART:20211031T010000
END:STANDARD
BEGIN:DAYLIGHT
TZOFFSETFROM:+0100
TZOFFSETTO:+0200
TZNAME:CEST
DTSTART:20220327T010000
END:DAYLIGHT
BEGIN:STANDARD
TZOFFSETFROM:+0200
TZOFFSETTO:+0100
TZNAME:CET
DTSTART:20221030T010000
END:STANDARD
BEGIN:DAYLIGHT
TZOFFSETFROM:+0100
TZOFFSETTO:+0200
TZNAME:CEST
DTSTART:20230326T010000
END:DAYLIGHT
BEGIN:STANDARD
TZOFFSETFROM:+0200
TZOFFSETTO:+0100
TZNAME:CET
DTSTART:20231029T010000
END:STANDARD
END:VTIMEZONE
BEGIN:VEVENT
DTSTART;TZID=Europe/Berlin:20221119T100000
DTEND;TZID=Europe/Berlin:20221119T120000
DTSTAMP:20260423T000123
CREATED:20221105T120647Z
LAST-MODIFIED:20230201T134625Z
UID:2396-1668852000-1668859200@melta.de
SUMMARY:Classroom-based assessment that gives voice and choice to learners
DESCRIPTION:Presenter: Maria Davou \nIn this webinar we will look at specific corrective feedback techniques we can use in the classroom. For the first part of the webinar\, we will reflect on alternative assessment tools within a critical pedagogy lens. For the second part of the webinar\, we will explore QFT (Question Formation Technique) as a framework we can use to both teach and assess our learners in meaningful\, learner-centered ways. We will look at a step by step QFT assessment design and then teachers will create their own tasks. \nMaria is a teacher\, teacher trainer\, author\, university professor and researcher. She runs a language school in Greece\, promoting alternative educational methods. She’s a storyteller and an educational visionary. \nPlease register at info@melta.de
URL:https://melta.de/event/classroom-based-assessment-that-gives-voice-and-choice-to-learners/
CATEGORIES:MELTA Events,Past
ATTACH;FMTTYPE=image/png:https://melta.de/wp-content/uploads/2022/11/Screen-Shot-2022-11-01-at-4.47.23-PM.png
END:VEVENT
END:VCALENDAR