BEGIN:VCALENDAR
VERSION:2.0
PRODID:-//MELTA - ECPv6.15.20//NONSGML v1.0//EN
CALSCALE:GREGORIAN
METHOD:PUBLISH
X-ORIGINAL-URL:https://melta.de
X-WR-CALDESC:Events for MELTA
REFRESH-INTERVAL;VALUE=DURATION:PT1H
X-Robots-Tag:noindex
X-PUBLISHED-TTL:PT1H
BEGIN:VTIMEZONE
TZID:Europe/Berlin
BEGIN:DAYLIGHT
TZOFFSETFROM:+0100
TZOFFSETTO:+0200
TZNAME:CEST
DTSTART:20230326T010000
END:DAYLIGHT
BEGIN:STANDARD
TZOFFSETFROM:+0200
TZOFFSETTO:+0100
TZNAME:CET
DTSTART:20231029T010000
END:STANDARD
BEGIN:DAYLIGHT
TZOFFSETFROM:+0100
TZOFFSETTO:+0200
TZNAME:CEST
DTSTART:20240331T010000
END:DAYLIGHT
BEGIN:STANDARD
TZOFFSETFROM:+0200
TZOFFSETTO:+0100
TZNAME:CET
DTSTART:20241027T010000
END:STANDARD
BEGIN:DAYLIGHT
TZOFFSETFROM:+0100
TZOFFSETTO:+0200
TZNAME:CEST
DTSTART:20250330T010000
END:DAYLIGHT
BEGIN:STANDARD
TZOFFSETFROM:+0200
TZOFFSETTO:+0100
TZNAME:CET
DTSTART:20251026T010000
END:STANDARD
END:VTIMEZONE
BEGIN:VEVENT
DTSTART;VALUE=DATE:20241122
DTEND;VALUE=DATE:20241125
DTSTAMP:20260421T170305
CREATED:20240706T075716Z
LAST-MODIFIED:20241126T155122Z
UID:3369-1732233600-1732492799@melta.de
SUMMARY:37th Annual IATEFL BESIG Conference
DESCRIPTION:This year’s IATEFL BESIG will take place at Urban Valley Resort and Spa\, Trig Wied Ghollieqa\, San Gwann\, Malta. The conference will begin at 14.00 on Friday\, 22 November and end at 13.00 on Sunday\, 24 November.  \nThe conference theme is “Business Frontiers – Creating the future together”. Talks and workshops will focus on business English learning technologies\, teaching practices\, future-proofing and employability\, sustainability and teaching in the global world.\nProposals for talks and workshops are welcome. The deadline for submissions is July 15\, 2024. You can find the guidelines and the possibility to upload your proposal here. \nOnline registration for the conference will close on 18 November\, although you can still register onsite in Malta. Follow this link for more information and to register for the conference. \nAccommodation in Malta is available for a special rate at the resort. Email address for reservations is: reservations@urbanvalleyresort.com using code “IATEFL BESIG 2024”. The deadline for conference rates is 31/08/24.
URL:https://melta.de/event/37th-annual-iatefl-besig-conference/
CATEGORIES:External Events,Past
ATTACH;FMTTYPE=image/png:https://melta.de/wp-content/uploads/2024/07/BESIG-Announcement_Image.png
END:VEVENT
END:VCALENDAR