BEGIN:VCALENDAR
VERSION:2.0
PRODID:-//MELTA - ECPv6.15.20//NONSGML v1.0//EN
CALSCALE:GREGORIAN
METHOD:PUBLISH
X-WR-CALNAME:MELTA
X-ORIGINAL-URL:https://melta.de
X-WR-CALDESC:Events for MELTA
REFRESH-INTERVAL;VALUE=DURATION:PT1H
X-Robots-Tag:noindex
X-PUBLISHED-TTL:PT1H
BEGIN:VTIMEZONE
TZID:Europe/Berlin
BEGIN:DAYLIGHT
TZOFFSETFROM:+0100
TZOFFSETTO:+0200
TZNAME:CEST
DTSTART:20250330T010000
END:DAYLIGHT
BEGIN:STANDARD
TZOFFSETFROM:+0200
TZOFFSETTO:+0100
TZNAME:CET
DTSTART:20251026T010000
END:STANDARD
BEGIN:DAYLIGHT
TZOFFSETFROM:+0100
TZOFFSETTO:+0200
TZNAME:CEST
DTSTART:20260329T010000
END:DAYLIGHT
BEGIN:STANDARD
TZOFFSETFROM:+0200
TZOFFSETTO:+0100
TZNAME:CET
DTSTART:20261025T010000
END:STANDARD
BEGIN:DAYLIGHT
TZOFFSETFROM:+0100
TZOFFSETTO:+0200
TZNAME:CEST
DTSTART:20270328T010000
END:DAYLIGHT
BEGIN:STANDARD
TZOFFSETFROM:+0200
TZOFFSETTO:+0100
TZNAME:CET
DTSTART:20271031T010000
END:STANDARD
END:VTIMEZONE
BEGIN:VEVENT
DTSTART;TZID=Europe/Berlin:20260307T100000
DTEND;TZID=Europe/Berlin:20260307T133000
DTSTAMP:20260421T212733
CREATED:20260209T130103Z
LAST-MODIFIED:20260316T075903Z
UID:3930-1772877600-1772890200@melta.de
SUMMARY:From disruption to direction: our future skill set
DESCRIPTION:Now that the first feeding frenzy of AI is over\, we need to think about how to manage disruptions and develop skill sets that will help us thrive in our profession. Therefore\, this webinar aims to enable English trainers and teachers to assess future risks\, identify emerging skill sets and develop strategies for long-term professional resilience.  \nIn this webinar\, participants will collaborate in small groups to explore a number of questions in a risk assessment of the disruptions we’re facing in our profession. In the second round\, the groups will do a needs analysis and explore what skills can help us navigate the evolving demands of our roles over the next few years.  \nAfter the group work\, we’ll reflect together on the direction we need to take and the tools that will support us in staying relevant\, effective and empowered in a rapidly changing professional environment. \nAn online whiteboard will help to visualise ideas and provide additional information that the groups can use in their discussions. \nSend us an email to register \nBio \nKirsten Waechter has been a business English trainer since 1998. She focuses on teaching business communication\, ESP and EAP and intercultural and leadership courses. She designs her own materials in these fields and provides teacher training\, too.
URL:https://melta.de/event/from-disruption-to-direction-our-future-skill-set/
CATEGORIES:MELTA Events,Past
ATTACH;FMTTYPE=image/jpeg:https://melta.de/wp-content/uploads/2026/02/headshot-4N-Large.jpg
END:VEVENT
END:VCALENDAR