BEGIN:VCALENDAR
VERSION:2.0
PRODID:-//MELTA - ECPv6.15.20//NONSGML v1.0//EN
CALSCALE:GREGORIAN
METHOD:PUBLISH
X-ORIGINAL-URL:https://melta.de
X-WR-CALDESC:Events for MELTA
REFRESH-INTERVAL;VALUE=DURATION:PT1H
X-Robots-Tag:noindex
X-PUBLISHED-TTL:PT1H
BEGIN:VTIMEZONE
TZID:Europe/Berlin
BEGIN:DAYLIGHT
TZOFFSETFROM:+0100
TZOFFSETTO:+0200
TZNAME:CEST
DTSTART:20250330T010000
END:DAYLIGHT
BEGIN:STANDARD
TZOFFSETFROM:+0200
TZOFFSETTO:+0100
TZNAME:CET
DTSTART:20251026T010000
END:STANDARD
BEGIN:DAYLIGHT
TZOFFSETFROM:+0100
TZOFFSETTO:+0200
TZNAME:CEST
DTSTART:20260329T010000
END:DAYLIGHT
BEGIN:STANDARD
TZOFFSETFROM:+0200
TZOFFSETTO:+0100
TZNAME:CET
DTSTART:20261025T010000
END:STANDARD
BEGIN:DAYLIGHT
TZOFFSETFROM:+0100
TZOFFSETTO:+0200
TZNAME:CEST
DTSTART:20270328T010000
END:DAYLIGHT
BEGIN:STANDARD
TZOFFSETFROM:+0200
TZOFFSETTO:+0100
TZNAME:CET
DTSTART:20271031T010000
END:STANDARD
END:VTIMEZONE
BEGIN:VEVENT
DTSTART;TZID=Europe/Berlin:20260311T193000
DTEND;TZID=Europe/Berlin:20260311T210000
DTSTAMP:20260421T212824
CREATED:20260213T120504Z
LAST-MODIFIED:20260316T075931Z
UID:3934-1773257400-1773262800@melta.de
SUMMARY:Write It. Notice It. Say It. Learner Diaries in Business English
DESCRIPTION:An interactive workshop on using short diary tasks to connect writing\, noticing and speaking in business English. \nBusiness English teachers often work with time-poor learners in a range of contexts\, including offices\, online lessons\, one-to-one and small groups. \nIn this interactive online workshop\, Lucy Tilney explores how a learner diary approach can be adapted to support noticing\, grammar\, pronunciation and spoken fluency\, even within real-world constraints. Participants will leave with practical ideas they can apply immediately in their own teaching. \nclick here to register
URL:https://melta.de/event/write-it-notice-it-say-it-learner-diaries-in-business-english/
CATEGORIES:External Events,Past
ATTACH;FMTTYPE=image/png:https://melta.de/wp-content/uploads/2026/02/Screenshot-2026-02-13-at-13.03.04.png
END:VEVENT
END:VCALENDAR